Package: miRNAtap Version: 1.42.0 Command: /Library/Frameworks/R.framework/Resources/bin/R CMD INSTALL miRNAtap StartedAt: 2025-04-21 15:17:43 -0400 (Mon, 21 Apr 2025) EndedAt: 2025-04-21 15:18:01 -0400 (Mon, 21 Apr 2025) EllapsedTime: 17.8 seconds RetCode: 0 Status: OK