Package: miRNAtap Version: 1.42.0 Command: /home/biocbuild/R/R/bin/R CMD build --keep-empty-dirs --no-resave-data miRNAtap StartedAt: 2025-10-14 02:32:01 -0000 (Tue, 14 Oct 2025) EndedAt: 2025-10-14 02:33:04 -0000 (Tue, 14 Oct 2025) EllapsedTime: 63.0 seconds RetCode: 0 Status: OK PackageFile: miRNAtap_1.42.0.tar.gz PackageFileSize: 216.9 KiB