Package: miRNAtap Version: 1.42.0 Command: /Library/Frameworks/R.framework/Resources/bin/R CMD INSTALL miRNAtap StartedAt: 2025-04-21 15:08:47 -0400 (Mon, 21 Apr 2025) EndedAt: 2025-04-21 15:08:52 -0400 (Mon, 21 Apr 2025) EllapsedTime: 5.4 seconds RetCode: 0 Status: OK