Package: miRNAtap Version: 1.42.0 Command: /Library/Frameworks/R.framework/Resources/bin/R CMD check --install=check:miRNAtap.install-out.txt --library=/Library/Frameworks/R.framework/Resources/library --no-vignettes --timings miRNAtap_1.42.0.tar.gz StartedAt: 2025-10-15 03:59:49 -0400 (Wed, 15 Oct 2025) EndedAt: 2025-10-15 04:02:01 -0400 (Wed, 15 Oct 2025) EllapsedTime: 131.8 seconds RetCode: 0 Status: OK CheckDir: miRNAtap.Rcheck Warnings: 0