Package: miRNAtap Version: 1.42.0 Command: /Library/Frameworks/R.framework/Resources/bin/R CMD build --keep-empty-dirs --no-resave-data miRNAtap StartedAt: 2025-10-14 04:28:25 -0400 (Tue, 14 Oct 2025) EndedAt: 2025-10-14 04:29:12 -0400 (Tue, 14 Oct 2025) EllapsedTime: 46.7 seconds RetCode: 0 Status: OK PackageFile: miRNAtap_1.42.0.tar.gz PackageFileSize: 223.2 KiB