Package: miRNAtap Version: 1.42.0 Command: rm -rf miRNAtap.buildbin-libdir && mkdir miRNAtap.buildbin-libdir && /Users/biocbuild/BBS/utils/build-universal.sh miRNAtap_1.42.0.tar.gz /Library/Frameworks/R.framework/Resources/bin/R miRNAtap.buildbin-libdir StartedAt: 2025-10-15 19:21:51 -0400 (Wed, 15 Oct 2025) EndedAt: 2025-10-15 19:22:08 -0400 (Wed, 15 Oct 2025) EllapsedTime: 17.2 seconds RetCode: 0 Status: OK PackageFile: miRNAtap_1.42.0.tgz PackageFileSize: 566 KiB