Package: miRLAB Version: 1.38.0 Command: chmod a+r miRLAB -R && E:\biocbuild\bbs-3.21-bioc\R\bin\R.exe CMD build --keep-empty-dirs --no-resave-data miRLAB StartedAt: 2025-08-14 20:27:36 -0400 (Thu, 14 Aug 2025) EndedAt: 2025-08-14 20:28:34 -0400 (Thu, 14 Aug 2025) EllapsedTime: 57.9 seconds RetCode: 0 Status: OK PackageFile: miRLAB_1.38.0.tar.gz PackageFileSize: 192.3 KiB