Package: miRLAB Version: 1.38.0 Command: rm -rf miRLAB.buildbin-libdir && mkdir miRLAB.buildbin-libdir && E:\biocbuild\bbs-3.21-bioc\R\bin\R.exe CMD INSTALL --build --library=miRLAB.buildbin-libdir miRLAB_1.38.0.tar.gz StartedAt: 2025-08-15 09:43:16 -0400 (Fri, 15 Aug 2025) EndedAt: 2025-08-15 09:44:10 -0400 (Fri, 15 Aug 2025) EllapsedTime: 53.9 seconds RetCode: 0 Status: OK PackageFile: miRLAB_1.38.0.zip PackageFileSize: 307.7 KiB