Package: miRLAB Version: 1.38.0 Command: /Library/Frameworks/R.framework/Resources/bin/R CMD INSTALL miRLAB StartedAt: 2025-10-13 16:24:10 -0400 (Mon, 13 Oct 2025) EndedAt: 2025-10-13 16:25:29 -0400 (Mon, 13 Oct 2025) EllapsedTime: 78.4 seconds RetCode: 0 Status: OK