Package: miRLAB Version: 1.38.0 Command: rm -rf miRLAB.buildbin-libdir && mkdir miRLAB.buildbin-libdir && /Users/biocbuild/BBS/utils/build-universal.sh miRLAB_1.38.0.tar.gz /Library/Frameworks/R.framework/Resources/bin/R miRLAB.buildbin-libdir StartedAt: 2025-10-14 14:04:56 -0400 (Tue, 14 Oct 2025) EndedAt: 2025-10-14 14:07:02 -0400 (Tue, 14 Oct 2025) EllapsedTime: 126.0 seconds RetCode: 0 Status: OK PackageFile: miRLAB_1.38.0.tgz PackageFileSize: 303.4 KiB