Package: miRLAB Version: 1.38.0 Command: /home/biocbuild/R/R/bin/R CMD build --keep-empty-dirs --no-resave-data miRLAB StartedAt: 2025-09-30 03:12:40 -0000 (Tue, 30 Sep 2025) EndedAt: 2025-09-30 03:13:30 -0000 (Tue, 30 Sep 2025) EllapsedTime: 50.0 seconds RetCode: 0 Status: OK PackageFile: miRLAB_1.38.0.tar.gz PackageFileSize: 192.8 KiB