Package: miRLAB Version: 1.38.0 Command: /Library/Frameworks/R.framework/Resources/bin/R CMD check --install=check:miRLAB.install-out.txt --library=/Library/Frameworks/R.framework/Resources/library --no-vignettes --timings miRLAB_1.38.0.tar.gz StartedAt: 2025-04-21 20:21:51 -0400 (Mon, 21 Apr 2025) EndedAt: 2025-04-21 20:23:29 -0400 (Mon, 21 Apr 2025) EllapsedTime: 98.2 seconds RetCode: 0 Status: WARNINGS CheckDir: miRLAB.Rcheck Warnings: 1