Package: miRLAB Version: 1.38.0 Command: rm -rf miRLAB.buildbin-libdir && mkdir miRLAB.buildbin-libdir && /Users/biocbuild/BBS/utils/build-universal.sh miRLAB_1.38.0.tar.gz /Library/Frameworks/R.framework/Resources/bin/R miRLAB.buildbin-libdir StartedAt: 2025-04-21 22:42:28 -0400 (Mon, 21 Apr 2025) EndedAt: 2025-04-21 22:42:45 -0400 (Mon, 21 Apr 2025) EllapsedTime: 16.3 seconds RetCode: 0 Status: OK PackageFile: miRLAB_1.38.0.tgz PackageFileSize: 305.1 KiB