Package: miRLAB Version: 1.38.0 Command: /Library/Frameworks/R.framework/Resources/bin/R CMD build --keep-empty-dirs --no-resave-data miRLAB StartedAt: 2025-09-30 04:29:49 -0400 (Tue, 30 Sep 2025) EndedAt: 2025-09-30 04:30:36 -0400 (Tue, 30 Sep 2025) EllapsedTime: 46.5 seconds RetCode: 0 Status: OK PackageFile: miRLAB_1.38.0.tar.gz PackageFileSize: 192.3 KiB