Package: miRBaseConverter Version: 1.32.0 Command: /home/biocbuild/bbs-3.21-bioc/R/bin/R CMD INSTALL miRBaseConverter StartedAt: 2025-10-01 15:05:45 -0400 (Wed, 01 Oct 2025) EndedAt: 2025-10-01 15:05:59 -0400 (Wed, 01 Oct 2025) EllapsedTime: 14.1 seconds RetCode: 0 Status: OK