Package: miRBaseConverter Version: 1.32.0 Command: /home/biocbuild/bbs-3.21-bioc/R/bin/R CMD build --keep-empty-dirs --no-resave-data miRBaseConverter StartedAt: 2025-10-01 18:37:29 -0400 (Wed, 01 Oct 2025) EndedAt: 2025-10-01 18:37:50 -0400 (Wed, 01 Oct 2025) EllapsedTime: 21.1 seconds RetCode: 0 Status: OK PackageFile: miRBaseConverter_1.32.0.tar.gz PackageFileSize: 1.939 MiB