Package: miQC Version: 1.16.0 Command: /home/biocbuild/bbs-3.21-bioc/R/bin/R CMD check --install=check:miQC.install-out.txt --library=/home/biocbuild/bbs-3.21-bioc/R/site-library --timings miQC_1.16.0.tar.gz StartedAt: 2025-10-02 01:03:55 -0400 (Thu, 02 Oct 2025) EndedAt: 2025-10-02 01:08:11 -0400 (Thu, 02 Oct 2025) EllapsedTime: 256.3 seconds RetCode: 0 Status: OK CheckDir: miQC.Rcheck Warnings: 0