Package: miQC Version: 1.16.0 Command: /home/biocbuild/bbs-3.21-bioc/R/bin/R CMD build --keep-empty-dirs --no-resave-data miQC StartedAt: 2025-10-01 18:36:29 -0400 (Wed, 01 Oct 2025) EndedAt: 2025-10-01 18:37:46 -0400 (Wed, 01 Oct 2025) EllapsedTime: 77.1 seconds RetCode: 0 Status: OK PackageFile: miQC_1.16.0.tar.gz PackageFileSize: 2.826 MiB