Package: mgsa Version: 1.56.0 Command: E:\biocbuild\bbs-3.21-bioc\R\bin\R.exe CMD INSTALL mgsa StartedAt: 2025-08-14 15:21:50 -0400 (Thu, 14 Aug 2025) EndedAt: 2025-08-14 15:22:15 -0400 (Thu, 14 Aug 2025) EllapsedTime: 25.2 seconds RetCode: 0 Status: OK