Package: mgsa Version: 1.56.0 Command: rm -rf mgsa.buildbin-libdir && mkdir mgsa.buildbin-libdir && E:\biocbuild\bbs-3.21-bioc\R\bin\R.exe CMD INSTALL --build --library=mgsa.buildbin-libdir mgsa_1.56.0.tar.gz StartedAt: 2025-08-15 09:41:49 -0400 (Fri, 15 Aug 2025) EndedAt: 2025-08-15 09:42:21 -0400 (Fri, 15 Aug 2025) EllapsedTime: 32.8 seconds RetCode: 0 Status: OK PackageFile: mgsa_1.56.0.zip PackageFileSize: 454.7 KiB