Package: mgsa Version: 1.56.0 Command: /home/biocbuild/bbs-3.21-bioc/R/bin/R CMD build --keep-empty-dirs --no-resave-data mgsa StartedAt: 2025-10-15 18:29:56 -0400 (Wed, 15 Oct 2025) EndedAt: 2025-10-15 18:30:08 -0400 (Wed, 15 Oct 2025) EllapsedTime: 12.0 seconds RetCode: 0 Status: OK PackageFile: mgsa_1.56.0.tar.gz PackageFileSize: 395.3 KiB