Package: mgsa Version: 1.56.0 Command: /Library/Frameworks/R.framework/Resources/bin/R CMD check --install=check:mgsa.install-out.txt --library=/Library/Frameworks/R.framework/Resources/library --no-vignettes --timings mgsa_1.56.0.tar.gz StartedAt: 2025-10-14 06:27:21 -0400 (Tue, 14 Oct 2025) EndedAt: 2025-10-14 06:28:40 -0400 (Tue, 14 Oct 2025) EllapsedTime: 79.7 seconds RetCode: 0 Status: WARNINGS CheckDir: mgsa.Rcheck Warnings: 1