Package: mgsa Version: 1.56.0 Command: rm -rf mgsa.buildbin-libdir && mkdir mgsa.buildbin-libdir && /Users/biocbuild/BBS/utils/build-universal.sh mgsa_1.56.0.tar.gz /Library/Frameworks/R.framework/Resources/bin/R mgsa.buildbin-libdir StartedAt: 2025-10-14 14:02:32 -0400 (Tue, 14 Oct 2025) EndedAt: 2025-10-14 14:02:54 -0400 (Tue, 14 Oct 2025) EllapsedTime: 22.4 seconds RetCode: 0 Status: OK PackageFile: mgsa_1.56.0.tgz PackageFileSize: 545 KiB