Package: mgsa Version: 1.56.0 Command: rm -rf mgsa.buildbin-libdir && mkdir mgsa.buildbin-libdir && /Users/biocbuild/BBS/utils/build-universal.sh mgsa_1.56.0.tar.gz /Library/Frameworks/R.framework/Resources/bin/R mgsa.buildbin-libdir StartedAt: 2025-04-22 00:54:31 -0400 (Tue, 22 Apr 2025) EndedAt: 2025-04-22 00:54:46 -0400 (Tue, 22 Apr 2025) EllapsedTime: 14.9 seconds RetCode: 0 Status: OK PackageFile: mgsa_1.56.0.tgz PackageFileSize: 544.6 KiB