Package: mgsa Version: 1.56.0 Command: /home/biocbuild/R/R/bin/R CMD INSTALL mgsa StartedAt: 2025-10-13 20:14:19 -0000 (Mon, 13 Oct 2025) EndedAt: 2025-10-13 20:14:39 -0000 (Mon, 13 Oct 2025) EllapsedTime: 19.8 seconds RetCode: 0 Status: OK