Package: mgsa Version: 1.56.0 Command: /home/biocbuild/R/R/bin/R CMD build --keep-empty-dirs --no-resave-data mgsa StartedAt: 2025-10-14 02:26:19 -0000 (Tue, 14 Oct 2025) EndedAt: 2025-10-14 02:26:34 -0000 (Tue, 14 Oct 2025) EllapsedTime: 15.0 seconds RetCode: 0 Status: OK PackageFile: mgsa_1.56.0.tar.gz PackageFileSize: 388.2 KiB