Package: mgsa Version: 1.56.0 Maintainer: Sebastian Bauer MaintainerEmail: mail at sebastianbauer.info git_url: https://git.bioconductor.org/packages/mgsa git_branch: RELEASE_3_21 git_last_commit: d41a5d2 git_last_commit_date: 2025-04-15 10:01:34 -0400 (Tue, 15 Apr 2025)