Package: methylumi Version: 2.54.0 Command: chmod a+r methylumi -R && E:\biocbuild\bbs-3.21-bioc\R\bin\R.exe CMD build --keep-empty-dirs --no-resave-data methylumi StartedAt: 2025-08-14 20:21:29 -0400 (Thu, 14 Aug 2025) EndedAt: 2025-08-14 20:26:48 -0400 (Thu, 14 Aug 2025) EllapsedTime: 319.1 seconds RetCode: 0 Status: OK PackageFile: methylumi_2.54.0.tar.gz PackageFileSize: 7.332 MiB