Package: methylumi Version: 2.54.0 Command: /Library/Frameworks/R.framework/Resources/bin/R CMD build --keep-empty-dirs --no-resave-data methylumi StartedAt: 2025-09-25 20:28:07 -0400 (Thu, 25 Sep 2025) EndedAt: 2025-09-25 20:35:55 -0400 (Thu, 25 Sep 2025) EllapsedTime: 468.1 seconds RetCode: 0 Status: OK PackageFile: methylumi_2.54.0.tar.gz PackageFileSize: 7.345 MiB