Package: methylumi Version: 2.54.0 Command: /Library/Frameworks/R.framework/Resources/bin/R CMD INSTALL methylumi StartedAt: 2025-10-13 18:31:32 -0400 (Mon, 13 Oct 2025) EndedAt: 2025-10-13 18:32:43 -0400 (Mon, 13 Oct 2025) EllapsedTime: 71.0 seconds RetCode: 0 Status: OK