Package: methylumi Version: 2.54.0 Command: /Library/Frameworks/R.framework/Resources/bin/R CMD build --keep-empty-dirs --no-resave-data methylumi StartedAt: 2025-10-14 04:14:58 -0400 (Tue, 14 Oct 2025) EndedAt: 2025-10-14 04:19:13 -0400 (Tue, 14 Oct 2025) EllapsedTime: 254.3 seconds RetCode: 0 Status: OK PackageFile: methylumi_2.54.0.tar.gz PackageFileSize: 7.345 MiB