Package: methylumi Version: 2.54.0 Command: rm -rf methylumi.buildbin-libdir && mkdir methylumi.buildbin-libdir && /Users/biocbuild/BBS/utils/build-universal.sh methylumi_2.54.0.tar.gz /Library/Frameworks/R.framework/Resources/bin/R methylumi.buildbin-libdir StartedAt: 2025-10-15 19:17:43 -0400 (Wed, 15 Oct 2025) EndedAt: 2025-10-15 19:18:59 -0400 (Wed, 15 Oct 2025) EllapsedTime: 76.5 seconds RetCode: 0 Status: OK PackageFile: methylumi_2.54.0.tgz PackageFileSize: 8.413 MiB