Package: methylscaper Version: 1.16.0 Command: /home/biocbuild/bbs-3.21-bioc/R/bin/R CMD INSTALL methylscaper StartedAt: 2025-10-15 15:51:01 -0400 (Wed, 15 Oct 2025) EndedAt: 2025-10-15 15:51:30 -0400 (Wed, 15 Oct 2025) EllapsedTime: 28.8 seconds RetCode: 0 Status: OK