Package: methylscaper Version: 1.16.0 Command: /home/biocbuild/bbs-3.21-bioc/R/bin/R CMD check --install=check:methylscaper.install-out.txt --library=/home/biocbuild/bbs-3.21-bioc/R/site-library --timings methylscaper_1.16.0.tar.gz StartedAt: 2025-10-16 00:57:07 -0400 (Thu, 16 Oct 2025) EndedAt: 2025-10-16 01:01:45 -0400 (Thu, 16 Oct 2025) EllapsedTime: 278.4 seconds RetCode: 0 Status: OK CheckDir: methylscaper.Rcheck Warnings: 0