Package: methylscaper Version: 1.16.0 Command: /home/biocbuild/bbs-3.21-bioc/R/bin/R CMD build --keep-empty-dirs --no-resave-data methylscaper StartedAt: 2025-10-15 18:28:16 -0400 (Wed, 15 Oct 2025) EndedAt: 2025-10-15 18:29:58 -0400 (Wed, 15 Oct 2025) EllapsedTime: 102.1 seconds RetCode: 0 Status: OK PackageFile: methylscaper_1.16.0.tar.gz PackageFileSize: 4.025 MiB