Package: methylscaper Version: 1.16.0 Command: /Library/Frameworks/R.framework/Resources/bin/R CMD INSTALL methylscaper StartedAt: 2025-10-13 16:35:11 -0400 (Mon, 13 Oct 2025) EndedAt: 2025-10-13 16:36:11 -0400 (Mon, 13 Oct 2025) EllapsedTime: 60.5 seconds RetCode: 0 Status: OK