Package: methylscaper Version: 1.16.0 Command: /Library/Frameworks/R.framework/Resources/bin/R CMD check --install=check:methylscaper.install-out.txt --library=/Library/Frameworks/R.framework/Resources/library --no-vignettes --timings methylscaper_1.16.0.tar.gz StartedAt: 2025-10-14 06:23:29 -0400 (Tue, 14 Oct 2025) EndedAt: 2025-10-14 06:29:53 -0400 (Tue, 14 Oct 2025) EllapsedTime: 383.8 seconds RetCode: 0 Status: OK CheckDir: methylscaper.Rcheck Warnings: 0