Package: methylscaper Version: 1.16.0 Command: /home/biocbuild/R/R/bin/R CMD check --install=check:methylscaper.install-out.txt --library=/home/biocbuild/R/R/site-library --no-vignettes --timings methylscaper_1.16.0.tar.gz StartedAt: 2025-10-14 11:06:13 -0000 (Tue, 14 Oct 2025) EndedAt: 2025-10-14 11:10:29 -0000 (Tue, 14 Oct 2025) EllapsedTime: 256.1 seconds RetCode: 0 Status: OK CheckDir: methylscaper.Rcheck Warnings: 0