Package: methylclock Version: 1.14.0 Command: E:\biocbuild\bbs-3.21-bioc\R\bin\R.exe CMD check --no-multiarch --install=check:methylclock.install-out.txt --library=E:\biocbuild\bbs-3.21-bioc\R\library --no-vignettes --timings methylclock_1.14.0.tar.gz StartedAt: 2025-08-15 04:00:29 -0400 (Fri, 15 Aug 2025) EndedAt: 2025-08-15 04:13:10 -0400 (Fri, 15 Aug 2025) EllapsedTime: 761.7 seconds RetCode: 0 Status: OK CheckDir: methylclock.Rcheck Warnings: 0