Package: methylMnM Version: 1.46.0 Command: /home/biocbuild/R/R/bin/R CMD build --keep-empty-dirs --no-resave-data methylMnM StartedAt: 2025-10-14 02:22:13 -0000 (Tue, 14 Oct 2025) EndedAt: 2025-10-14 02:24:08 -0000 (Tue, 14 Oct 2025) EllapsedTime: 115.0 seconds RetCode: 0 Status: OK PackageFile: methylMnM_1.46.0.tar.gz PackageFileSize: 8.501 MiB