Package: methylGSA Version: 1.26.0 Command: /Library/Frameworks/R.framework/Resources/bin/R CMD INSTALL methylGSA StartedAt: 2025-04-21 15:52:10 -0400 (Mon, 21 Apr 2025) EndedAt: 2025-04-21 15:52:45 -0400 (Mon, 21 Apr 2025) EllapsedTime: 35.6 seconds RetCode: 0 Status: OK