Package: methylGSA Version: 1.26.0 Command: /Library/Frameworks/R.framework/Resources/bin/R CMD build --keep-empty-dirs --no-resave-data methylGSA StartedAt: 2025-04-21 16:53:53 -0400 (Mon, 21 Apr 2025) EndedAt: 2025-04-21 16:54:51 -0400 (Mon, 21 Apr 2025) EllapsedTime: 57.6 seconds RetCode: 0 Status: OK PackageFile: methylGSA_1.26.0.tar.gz PackageFileSize: 3.151 MiB