Package: methylCC Version: 1.22.0 Command: /home/biocbuild/bbs-3.21-bioc/R/bin/R CMD check --install=check:methylCC.install-out.txt --library=/home/biocbuild/bbs-3.21-bioc/R/site-library --timings methylCC_1.22.0.tar.gz StartedAt: 2025-10-02 00:51:00 -0400 (Thu, 02 Oct 2025) EndedAt: 2025-10-02 01:01:15 -0400 (Thu, 02 Oct 2025) EllapsedTime: 614.6 seconds RetCode: 0 Status: OK CheckDir: methylCC.Rcheck Warnings: 0