Package: methylCC Version: 1.22.0 Command: /Library/Frameworks/R.framework/Resources/bin/R CMD INSTALL methylCC StartedAt: 2025-09-29 16:17:57 -0400 (Mon, 29 Sep 2025) EndedAt: 2025-09-29 16:19:46 -0400 (Mon, 29 Sep 2025) EllapsedTime: 109.2 seconds RetCode: 0 Status: OK