Package: methylCC Version: 1.22.0 Command: rm -rf methylCC.buildbin-libdir && mkdir methylCC.buildbin-libdir && /Users/biocbuild/BBS/utils/build-universal.sh methylCC_1.22.0.tar.gz /Library/Frameworks/R.framework/Resources/bin/R methylCC.buildbin-libdir StartedAt: 2025-09-30 13:41:59 -0400 (Tue, 30 Sep 2025) EndedAt: 2025-09-30 13:45:05 -0400 (Tue, 30 Sep 2025) EllapsedTime: 186.1 seconds RetCode: 0 Status: OK PackageFile: methylCC_1.22.0.tgz PackageFileSize: 4.715 MiB