Package: methylCC Version: 1.22.0 Command: /Library/Frameworks/R.framework/Resources/bin/R CMD INSTALL methylCC StartedAt: 2025-09-29 17:37:13 -0400 (Mon, 29 Sep 2025) EndedAt: 2025-09-29 17:38:13 -0400 (Mon, 29 Sep 2025) EllapsedTime: 60.4 seconds RetCode: 0 Status: OK