Package: methrix Version: 1.22.1 Command: E:\biocbuild\bbs-3.21-bioc\R\bin\R.exe CMD check --no-multiarch --install=check:methrix.install-out.txt --library=E:\biocbuild\bbs-3.21-bioc\R\library --no-vignettes --timings methrix_1.22.1.tar.gz StartedAt: 2025-08-15 03:58:21 -0400 (Fri, 15 Aug 2025) EndedAt: 2025-08-15 04:04:55 -0400 (Fri, 15 Aug 2025) EllapsedTime: 394.3 seconds RetCode: 0 Status: OK CheckDir: methrix.Rcheck Warnings: 0