Package: methrix Version: 1.22.1 Command: /Library/Frameworks/R.framework/Resources/bin/R CMD INSTALL methrix StartedAt: 2025-10-13 16:55:23 -0400 (Mon, 13 Oct 2025) EndedAt: 2025-10-13 16:56:12 -0400 (Mon, 13 Oct 2025) EllapsedTime: 48.3 seconds RetCode: 0 Status: OK