Package: methrix Version: 1.22.1 Command: /Library/Frameworks/R.framework/Resources/bin/R CMD build --keep-empty-dirs --no-resave-data methrix StartedAt: 2025-10-14 03:58:14 -0400 (Tue, 14 Oct 2025) EndedAt: 2025-10-14 04:04:53 -0400 (Tue, 14 Oct 2025) EllapsedTime: 399.0 seconds RetCode: 0 Status: OK PackageFile: methrix_1.22.1.tar.gz PackageFileSize: 4.077 MiB