Package: methimpute Version: 1.30.0 Command: /home/biocbuild/bbs-3.21-bioc/R/bin/R CMD INSTALL methimpute StartedAt: 2025-09-28 15:29:58 -0400 (Sun, 28 Sep 2025) EndedAt: 2025-09-28 15:30:41 -0400 (Sun, 28 Sep 2025) EllapsedTime: 42.4 seconds RetCode: 0 Status: OK